BEGIN:VCALENDAR
VERSION:2.0
PRODID:-//Tukios.com/
BEGIN:VEVENT
UID:4cc7f477-1d20-494f-8815-b381043797c8@www.redmonfuneralhome.com
DTSTAMP:20260426T001759Z
DTSTART:20260429T200000Z
DTEND:20260429T230000Z
SUMMARY:Visitation
DESCRIPTION:
URL:https://www.redmonfuneralhome.com/obituaries/carol-fox
LOCATION:Redmon Funeral Home 3633 Darrow Rd  Stow OH 44224
GEO:41.1636822;-81.4399443
END:VEVENT
END:VCALENDAR