BEGIN:VCALENDAR
VERSION:2.0
PRODID:-//Tukios.com/
BEGIN:VEVENT
UID:06b117a0-83e3-4d3c-8361-bb9aca3d0f86@www.redmonfuneralhome.com
DTSTAMP:20260426T002207Z
DTSTART:20260430T150000Z
DTEND:20260430T160000Z
SUMMARY:Funeral Service
DESCRIPTION:
URL:https://www.redmonfuneralhome.com/obituaries/carol-fox
LOCATION:St Stephen Lutheran Church 3725 Kent Rd  Stow OH 44224
GEO:41.1597816;-81.4276877
END:VEVENT
END:VCALENDAR