BEGIN:VCALENDAR
VERSION:2.0
PRODID:-//Tukios.com/
BEGIN:VEVENT
UID:901658cd-1c80-4e30-9d1e-24d98c8f0252@www.redmonfuneralhome.com
DTSTAMP:20260424T011356Z
DTSTART:20260502T153000Z
DTEND:20260502T163000Z
SUMMARY:Funeral Service
DESCRIPTION:
URL:https://www.redmonfuneralhome.com/obituaries/james-lee
LOCATION:Redmon Funeral Home 3633 Darrow Road  Stow OH 44224
GEO:41.1636822;-81.4399443
END:VEVENT
END:VCALENDAR