BEGIN:VCALENDAR
VERSION:2.0
PRODID:-//Tukios.com/
BEGIN:VEVENT
UID:647b959a-2a2c-462c-a82e-3539b5ffb36c@www.redmonfuneralhome.com
DTSTAMP:20260424T011356Z
DTSTART:20260502T130000Z
DTEND:20260502T153000Z
SUMMARY:Visitation
DESCRIPTION:
URL:https://www.redmonfuneralhome.com/obituaries/james-lee
LOCATION:Redmon Funeral Home 3633 Darrow Road  Stow OH 44224
GEO:41.1636822;-81.4399443
END:VEVENT
END:VCALENDAR