BEGIN:VCALENDAR
VERSION:2.0
PRODID:-//Tukios.com/
BEGIN:VEVENT
UID:0a27dada-9aa2-4090-b221-e684be4dcfc9@www.redmonfuneralhome.com
DTSTAMP:20260424T011326Z
DTSTART:20260502
SUMMARY:Burial
DESCRIPTION:
URL:https://www.redmonfuneralhome.com/obituaries/james-lee
LOCATION: 1014 West Bath Road  Cuyahoga Falls OH 44223
GEO:41.1657041;-81.5416443
END:VEVENT
END:VCALENDAR