BEGIN:VCALENDAR
VERSION:2.0
PRODID:-//Tukios.com/
BEGIN:VEVENT
UID:ef02c18f-216a-4cbc-93e9-48d59a89446e@www.redmonfuneralhome.com
DTSTAMP:20260422T175419Z
DTSTART:20260426T180000Z
DTEND:20260426T200000Z
SUMMARY:Visitation
DESCRIPTION:
URL:https://www.redmonfuneralhome.com/obituaries/milton-bertka
LOCATION:Redmon Funeral Home 3633 Darrow Rd  Stow OH 44224
GEO:41.1636822;-81.4399443
END:VEVENT
END:VCALENDAR