BEGIN:VCALENDAR
VERSION:2.0
PRODID:-//Tukios.com/
BEGIN:VEVENT
UID:77cfe2d3-e0ea-4723-87e2-bb4dcc32d6aa@www.redmonfuneralhome.com
DTSTAMP:20260422T180118Z
DTSTART:20260427T150000Z
DTEND:20260427T160000Z
SUMMARY:Funeral Service
DESCRIPTION:
URL:https://www.redmonfuneralhome.com/obituaries/milton-bertka
LOCATION:Redmon Funeral Home 3633 Darrow Rd  Stow OH 44224
GEO:41.1636822;-81.4399443
END:VEVENT
END:VCALENDAR