BEGIN:VCALENDAR
VERSION:2.0
PRODID:-//Tukios.com/
BEGIN:VEVENT
UID:52bdd8fb-99a5-47a6-bd28-b15a72803a8b@www.redmonfuneralhome.com
DTSTAMP:20260421T084541Z
DTSTART:20260307T160000Z
DTEND:20260307T170000Z
SUMMARY:Celebration of Life
DESCRIPTION:
URL:https://www.redmonfuneralhome.com/obituaries/wade-christian
LOCATION:Bethany United Church of Christ 1235 Broad Blvd.  Cuyahoga Falls 
	OH 44223
GEO:41.1349058;-81.4985521
END:VEVENT
END:VCALENDAR